BEGIN:VCALENDAR
VERSION:2.0
PRODID:-//PYVOBJECT//NONSGML Version 1//EN
BEGIN:VTIMEZONE
TZID:Europe/Brussels
BEGIN:STANDARD
DTSTART:20001029T030000
RRULE:FREQ=YEARLY;BYDAY=-1SU;BYMONTH=10
TZNAME:CET
TZOFFSETFROM:+0200
TZOFFSETTO:+0100
END:STANDARD
BEGIN:DAYLIGHT
DTSTART:20000326T020000
RRULE:FREQ=YEARLY;BYDAY=-1SU;BYMONTH=3
TZNAME:CEST
TZOFFSETFROM:+0100
TZOFFSETTO:+0200
END:DAYLIGHT
END:VTIMEZONE
BEGIN:VEVENT
UID:ac295cfc544044ab99a222c88512d600
DTSTART;TZID=Europe/Brussels:20210617T100000
DTEND;TZID=Europe/Brussels:20210618T180000
CATEGORIES:Data protection,Privacy
DESCRIPTION:ENISA\, DG CONNECT and the University of Oslo organise the Annu
 al Privacy Forum (APF) 2021.
DTSTAMP:20210525T112616Z
LOCATION:Virtual
SUMMARY:Annual Privacy Forum 2021
URL:https://privacyforum.eu/
END:VEVENT
END:VCALENDAR
